BEGIN:VCALENDAR
VERSION:2.0
PRODID:-//Humanejia - ECPv6.9.0//NONSGML v1.0//EN
CALSCALE:GREGORIAN
METHOD:PUBLISH
X-WR-CALNAME:Humanejia
X-ORIGINAL-URL:https://humanejia.org
X-WR-CALDESC:Évènements pour Humanejia
REFRESH-INTERVAL;VALUE=DURATION:PT1H
X-Robots-Tag:noindex
X-PUBLISHED-TTL:PT1H
BEGIN:VTIMEZONE
TZID:UTC
BEGIN:STANDARD
TZOFFSETFROM:+0000
TZOFFSETTO:+0000
TZNAME:UTC
DTSTART:20220101T000000
END:STANDARD
TZID:Europe/Paris
BEGIN:DAYLIGHT
TZOFFSETFROM:+0100
TZOFFSETTO:+0200
TZNAME:CEST
DTSTART:20230326T010000
END:DAYLIGHT
BEGIN:STANDARD
TZOFFSETFROM:+0200
TZOFFSETTO:+0100
TZNAME:CET
DTSTART:20231029T010000
END:STANDARD
BEGIN:DAYLIGHT
TZOFFSETFROM:+0100
TZOFFSETTO:+0200
TZNAME:CEST
DTSTART:20240331T010000
END:DAYLIGHT
BEGIN:STANDARD
TZOFFSETFROM:+0200
TZOFFSETTO:+0100
TZNAME:CET
DTSTART:20241027T010000
END:STANDARD
END:VTIMEZONE
BEGIN:VEVENT
DTSTART;TZID=UTC:20250515T080000
DTEND;TZID=UTC:20250515T170000
DTSTAMP:20260422T135544
CREATED:20200529T071400Z
LAST-MODIFIED:20230326T005457Z
UID:358-1747296000-1747328400@humanejia.org
SUMMARY:Projet au Sénégal
DESCRIPTION:Notre association a récemment financée la distribution de colis vestimentaires et d’articles d’hygiène pour les enfants nomades de la ville de Figuig au Maroc. Cette action avait pour but d’aider ces enfants à avoir des vêtements chauds pour l’hiver ainsi que des produits d’hygiène de base. Nous sommes fiers d’avoir pu contribuer à améliorer les conditions de vie de ces enfants et de leur offrir un peu de réconfort
URL:https://humanejia.org/event/funds-research/
LOCATION:Envato\, 121 King Street\, Melbourne\, Victoria\, 3000\, Australia
CATEGORIES:Donations
ATTACH;FMTTYPE=image/jpeg:https://humanejia.org/wp-content/uploads/2020/06/paral-20.jpg
ORGANIZER;CN="Nicdark":MAILTO:email@gmail.com
END:VEVENT
BEGIN:VEVENT
DTSTART;TZID=UTC:20250501T080000
DTEND;TZID=UTC:20250501T170000
DTSTAMP:20260422T135544
CREATED:20200914T064650Z
LAST-MODIFIED:20230326T005521Z
UID:3102-1746086400-1746118800@humanejia.org
SUMMARY:Annexes en Tunisie
DESCRIPTION:Notre association œuvre contre  l’exclusion sociale et la précarité \, a ouvert une annexe en Tunisie en 2020. Cette annexe porte le nom de Humanejia TN et vise à étendre les activités de l’association dans toute la Tunisie 
URL:https://humanejia.org/event/live-testimonials/
LOCATION:Envato\, 121 King Street\, Melbourne\, Victoria\, 3000\, Australia
CATEGORIES:Donations
ATTACH;FMTTYPE=image/jpeg:https://humanejia.org/wp-content/uploads/2023/03/WhatsApp-Image-2023-03-07-at-02.45.45.jpeg
ORGANIZER;CN="Nicdark":MAILTO:email@gmail.com
END:VEVENT
BEGIN:VEVENT
DTSTART;VALUE=DATE:20240413
DTEND;VALUE=DATE:20240414
DTSTAMP:20260422T135544
CREATED:20240228T194953Z
LAST-MODIFIED:20240228T195847Z
UID:4136-1712966400-1713052799@humanejia.org
SUMMARY:Gala de charité
DESCRIPTION:Humanejia vous convie à son gala de charité le 13 avril 2024\, à l’Alhambra de Pontault Combault\, de 19h à minuit. En participant\, vous contribuez à soutenir nos actions associatives. Venez partager une soirée de générosité et de solidarité.
URL:https://humanejia.org/event/gala-de-charite-unis-pour-un-monde-meilleur/
ATTACH;FMTTYPE=image/jpeg:https://humanejia.org/wp-content/uploads/2024/02/salle-de-reception-alhambra-54.jpg
END:VEVENT
BEGIN:VEVENT
DTSTART;TZID=Europe/Paris:20230326T080000
DTEND;TZID=Europe/Paris:20230326T170000
DTSTAMP:20260422T135544
CREATED:20230326T005313Z
LAST-MODIFIED:20230326T005553Z
UID:3502-1679817600-1679850000@humanejia.org
SUMMARY:Visite Ehpad
DESCRIPTION:Nous avons pour mission de donner de la joie et de la bonne humeur aux résidents d’un Ehpad . Nous organisons des visites régulières pour passer du temps avec eux\, leur parler\, leur offrir des activités ludiques et leur apporter un peu de réconfort. Nous sommes convaincus que ces moments de partage sont bénéfiques pour les résidents\, mais également pour nous en tant que humain .
URL:https://humanejia.org/event/visite-ehpad/
ATTACH;FMTTYPE=image/jpeg:https://humanejia.org/wp-content/uploads/2023/03/WhatsApp-Image-2023-03-07-at-02.45.45.jpeg
END:VEVENT
BEGIN:VEVENT
DTSTART;TZID=UTC:20220607T080000
DTEND;TZID=UTC:20220624T170000
DTSTAMP:20260422T135544
CREATED:20200529T071446Z
LAST-MODIFIED:20230326T005846Z
UID:361-1654588800-1656090000@humanejia.org
SUMMARY:Projet au Maroc
DESCRIPTION:Notre association a récemment participé à un voyage humanitaire au Sénégal. Nous avons eu l’opportunité de construire un forage dans une communauté locale\, afin d’améliorer leur accès à l’eau potable. Nous avons également visité un orphelinat pour passer du temps avec les enfants et leur apporter du réconfort. Ce voyage a été une expérience incroyablement enrichissante et nous sommes fiers d’avoir pu contribuer à améliorer les conditions de vie de certaines personnes dans le besoin
URL:https://humanejia.org/event/presentation/
CATEGORIES:Projets Humanitaires
ATTACH;FMTTYPE=image/jpeg:https://humanejia.org/wp-content/uploads/2020/06/IMG_1951-scaled-e1678208386397.jpg
END:VEVENT
END:VCALENDAR